BEGIN:VCALENDAR
VERSION:2.0
PRODID:-//Localization Africa - ECPv6.15.20//NONSGML v1.0//EN
CALSCALE:GREGORIAN
METHOD:PUBLISH
X-WR-CALNAME:Localization Africa
X-ORIGINAL-URL:https://localizationafrica.com
X-WR-CALDESC:Events for Localization Africa
REFRESH-INTERVAL;VALUE=DURATION:PT1H
X-Robots-Tag:noindex
X-PUBLISHED-TTL:PT1H
BEGIN:VTIMEZONE
TZID:UTC
BEGIN:STANDARD
TZOFFSETFROM:+0000
TZOFFSETTO:+0000
TZNAME:UTC
DTSTART:20220101T000000
END:STANDARD
END:VTIMEZONE
BEGIN:VEVENT
DTSTART;VALUE=DATE:20250707
DTEND;VALUE=DATE:20250708
DTSTAMP:20260424T085810
CREATED:20230512T124217Z
LAST-MODIFIED:20230512T124217Z
UID:10000077-1751846400-1751932799@localizationafrica.com
SUMMARY:Kiswahili Day
DESCRIPTION:In the 1950s the United Nations established the Kiswahili language unit of United Nations Radio\, and today Kiswahili is the only African language within the Directorate of the Global Communications at the United Nations. The 7th  July of each year is proclaimed as World Kiswahili Language Day. Kiswahili is the first African language to be recognized in such a manner by the UN.
URL:https://localizationafrica.com/event/kiswahili-day/2025-07-07/
CATEGORIES:Festival
ATTACH;FMTTYPE=image/jpeg:https://localizationafrica.com/wp-content/uploads/2023/05/Kiswahili-day.jpg
END:VEVENT
BEGIN:VEVENT
DTSTART;VALUE=DATE:20240707
DTEND;VALUE=DATE:20240708
DTSTAMP:20260424T085810
CREATED:20230512T124217Z
LAST-MODIFIED:20230512T124217Z
UID:10000076-1720310400-1720396799@localizationafrica.com
SUMMARY:Kiswahili Day
DESCRIPTION:In the 1950s the United Nations established the Kiswahili language unit of United Nations Radio\, and today Kiswahili is the only African language within the Directorate of the Global Communications at the United Nations. The 7th  July of each year is proclaimed as World Kiswahili Language Day. Kiswahili is the first African language to be recognized in such a manner by the UN.
URL:https://localizationafrica.com/event/kiswahili-day/2024-07-07/
CATEGORIES:Festival
ATTACH;FMTTYPE=image/jpeg:https://localizationafrica.com/wp-content/uploads/2023/05/Kiswahili-day.jpg
END:VEVENT
BEGIN:VEVENT
DTSTART;VALUE=DATE:20230804
DTEND;VALUE=DATE:20230805
DTSTAMP:20260424T085810
CREATED:20230512T115319Z
LAST-MODIFIED:20230512T115319Z
UID:10000074-1691107200-1691193599@localizationafrica.com
SUMMARY:Umuganura
DESCRIPTION:Umuganura also called the National Harvest Day or Thanksgiving Day is the traditional feast celebrating the first harvest of the year\, and a platform to assess the harvest and finding ways of increasing harvest for the coming year.  To add more\, Umuganura is an annual event held on the first Friday of August and it is a public holiday. But the festival is celebrated during a week leading to the Umuganura day.
URL:https://localizationafrica.com/event/umuganura/
CATEGORIES:Festival
ATTACH;FMTTYPE=image/jpeg:https://localizationafrica.com/wp-content/uploads/2023/05/umuganura.jpg
END:VEVENT
BEGIN:VEVENT
DTSTART;VALUE=DATE:20230707
DTEND;VALUE=DATE:20230708
DTSTAMP:20260424T085810
CREATED:20230512T124217Z
LAST-MODIFIED:20230512T124217Z
UID:10000075-1688688000-1688774399@localizationafrica.com
SUMMARY:Kiswahili Day
DESCRIPTION:In the 1950s the United Nations established the Kiswahili language unit of United Nations Radio\, and today Kiswahili is the only African language within the Directorate of the Global Communications at the United Nations. The 7th  July of each year is proclaimed as World Kiswahili Language Day. Kiswahili is the first African language to be recognized in such a manner by the UN.
URL:https://localizationafrica.com/event/kiswahili-day/2023-07-07/
CATEGORIES:Festival
ATTACH;FMTTYPE=image/jpeg:https://localizationafrica.com/wp-content/uploads/2023/05/Kiswahili-day.jpg
END:VEVENT
BEGIN:VEVENT
DTSTART;VALUE=DATE:20230430
DTEND;VALUE=DATE:20230501
DTSTAMP:20260424T085810
CREATED:20230224T152324Z
LAST-MODIFIED:20230224T152325Z
UID:10000073-1682841600-1682874000@localizationafrica.com
SUMMARY:Akwasidae
DESCRIPTION:The Akwasidae Festival is celebrated by the Ashanti people and chiefs in Ashanti. The festival is celebrated on a Sunday\, once every six weeks to mark the seasons and the timings for various agricultural activities. Significance: Festival of commemoration of ancestors
URL:https://localizationafrica.com/event/akwasidae-2/2023-04-30/
LOCATION:Manhyia Palace P93P+M2Q Palace\, Kumasi\, P93P+M2Q Palace\, Kumasi\, Kumasi\, Ashanti Region\, Ghana
CATEGORIES:Festival
ATTACH;FMTTYPE=image/jpeg:https://localizationafrica.com/wp-content/uploads/2023/02/Photo-Credit_ManhyiaPalace.jpg
ORGANIZER;CN="Manhyia Palace":MAILTO:Info@manhyiapalace.org
END:VEVENT
BEGIN:VEVENT
DTSTART;VALUE=DATE:20230319
DTEND;VALUE=DATE:20230320
DTSTAMP:20260424T085810
CREATED:20230224T152324Z
LAST-MODIFIED:20230224T152325Z
UID:10000059-1679184000-1679270399@localizationafrica.com
SUMMARY:Akwasidae
DESCRIPTION:The Akwasidae Festival is celebrated by the Ashanti people and chiefs in Ashanti. The festival is celebrated on a Sunday\, once every six weeks to mark the seasons and the timings for various agricultural activities. Significance: Festival of commemoration of ancestors
URL:https://localizationafrica.com/event/akwasidae-2/2023-03-19/
LOCATION:Manhyia Palace P93P+M2Q Palace\, Kumasi\, P93P+M2Q Palace\, Kumasi\, Kumasi\, Ashanti Region\, Ghana
CATEGORIES:Festival
ATTACH;FMTTYPE=image/jpeg:https://localizationafrica.com/wp-content/uploads/2023/02/Photo-Credit_ManhyiaPalace.jpg
ORGANIZER;CN="Manhyia Palace":MAILTO:Info@manhyiapalace.org
END:VEVENT
END:VCALENDAR